BEGIN:VCALENDAR
X-WR-TIMEZONE;VALUE=TEXT:Europe/London
VERSION:2.0
CALSCALE:GREGORIAN
BEGIN:VEVENT
UID:74158bed-bff3-413f-91ac-6e2bbad85141@techdiary
DTSTAMP:20200723T132607                                     
URL:https://www.techdiary.co.uk/event/74158bed-bff3-413f-91ac-6e2bbad85141
DTSTART:20200723T160000
DTEND:20200723T173000

SUMMARY:Cyber Skills for App and Web Developers
DESCRIPTION:Providing an understanding of the OWASP web application security risks using contextual examples and exercises from regional Cyber experts\, North Cyber Security. (Price: FREE)
LOCATION:Online (remote)
END:VEVENT
END:VCALENDAR
