BEGIN:VCALENDAR
X-WR-TIMEZONE;VALUE=TEXT:Europe/London
VERSION:2.0
CALSCALE:GREGORIAN
BEGIN:VEVENT
UID:73f56374-32dc-4f1a-b1a2-7ff74a7a608d@techdiary
DTSTAMP:20180910T124523                                     
URL:https://www.techdiary.co.uk/event/73f56374-32dc-4f1a-b1a2-7ff74a7a608d
DTSTART:20180910T173000
DTEND:20180910T193000

SUMMARY:Hackathon Updates
DESCRIPTION:Alec Berry will discuss the organisational side of the Dynamo Hackathon\, and teams will present ideas. (Price: FREE / £24)
LOCATION:Accenture\, 9c Cafe\, Cobalt Business Park\, 1 Quick Silver Way\, Newcastle upon Tyne\, NE27 0QQ
END:VEVENT
END:VCALENDAR
