BEGIN:VCALENDAR
X-WR-TIMEZONE;VALUE=TEXT:Europe/London
VERSION:2.0
CALSCALE:GREGORIAN
BEGIN:VEVENT
UID:73a8ac42-ba99-4871-afc2-a8e6fc334914@techdiary
DTSTAMP:20210714T142833                                     
URL:https://www.techdiary.co.uk/event/73a8ac42-ba99-4871-afc2-a8e6fc334914
DTSTART:20211111T183000
DTEND:20211111T230000

SUMMARY:Dynamites Awards 2021
DESCRIPTION:Join us for the most highly anticipated IT and Tech awards in the North East! (Price: £112.80 - 118.80)
LOCATION:Newcastle Civic Centre
END:VEVENT
END:VCALENDAR
