BEGIN:VCALENDAR
X-WR-TIMEZONE;VALUE=TEXT:Europe/London
VERSION:2.0
CALSCALE:GREGORIAN
BEGIN:VEVENT
UID:7367a14c-ed68-4d6c-90a4-bee766bc2693@techdiary
DTSTAMP:20160728T141943                                     
URL:https://www.techdiary.co.uk/event/7367a14c-ed68-4d6c-90a4-bee766bc2693
DTSTART:20161020T190000
DTEND:20161020T234500

SUMMARY:Dynamites 16
DESCRIPTION:Dynamo&#039;s annual awards ceremony and social evening. (Price: £106.80)
LOCATION:Newcastle Civic Centre. Barras Bridge. NE1 7RS
END:VEVENT
END:VCALENDAR
