BEGIN:VCALENDAR
X-WR-TIMEZONE;VALUE=TEXT:Europe/London
VERSION:2.0
CALSCALE:GREGORIAN
BEGIN:VEVENT
UID:7024e4c6-373c-45ba-bfe9-c0d3bc3b98d4@techdiary
DTSTAMP:20211105T001931                                     
URL:https://www.techdiary.co.uk/event/7024e4c6-373c-45ba-bfe9-c0d3bc3b98d4
DTSTART:20211118T140000
DTEND:20211118T140000

SUMMARY:Recruit….Train….Develop…
DESCRIPTION:Learning Curve Group workforce development event for representatives from IT and digital businesses (Price: FREE)
LOCATION:Online (remote)
END:VEVENT
END:VCALENDAR
