BEGIN:VCALENDAR
X-WR-TIMEZONE;VALUE=TEXT:Europe/London
VERSION:2.0
CALSCALE:GREGORIAN
BEGIN:VEVENT
UID:6f9c9e94-b248-443f-a773-ade7ffccb311@techdiary
DTSTAMP:20160105T121232                                     
URL:https://www.techdiary.co.uk/event/6f9c9e94-b248-443f-a773-ade7ffccb311
DTSTART:20130528T173000
DTEND:20130528T173000

SUMMARY:WordPress 10th Anniversary
DESCRIPTION:Mark the 10th anniversary of Wordpress by joining a worldwide celebration and attending this Newcastle event. Hosted by Ki Media. Aimed at techies and non-techies alike. (Price: FREE)
LOCATION:The Town Wall\, Pink Lane\, Newcastle upon Tyne\, NE1 5HX
END:VEVENT
END:VCALENDAR
