BEGIN:VCALENDAR
X-WR-TIMEZONE;VALUE=TEXT:Europe/London
VERSION:2.0
CALSCALE:GREGORIAN
BEGIN:VEVENT
UID:6f6eddc0-794f-4092-a69b-82c2f87bec3e@techdiary
DTSTAMP:20200525T103947                                     
URL:https://www.techdiary.co.uk/event/6f6eddc0-794f-4092-a69b-82c2f87bec3e
DTSTART:20200617T193000
DTEND:20200617T210000

SUMMARY:Steps and Value in Change-Harvesting
DESCRIPTION:Why &quot;Take many more significantly smaller steps.&quot; is an effective answer to &quot;How can I get more value faster?&quot;. Presented by GeePaw Hill. (Price: FREE)
LOCATION:Online (remote)
END:VEVENT
END:VCALENDAR
