BEGIN:VCALENDAR
X-WR-TIMEZONE;VALUE=TEXT:Europe/London
VERSION:2.0
CALSCALE:GREGORIAN
BEGIN:VEVENT
UID:6e525a70-d763-4562-a6d4-2f6d0024ffbc@techdiary
DTSTAMP:20210629T091335                                     
URL:https://www.techdiary.co.uk/event/6e525a70-d763-4562-a6d4-2f6d0024ffbc
DTSTART:20210928T160000
DTEND:20210928T173000

SUMMARY:#CyberFest 21 - Cyber Security – It’s a Rural Issue as well
DESCRIPTION:An event aimed at SMEs on both sides of the borders to show that cybersecurity isn’t just a technical problem\, but one that affects all businesses and should be thought of and managed as any other business risk. (Price: FREE)
LOCATION:Online (remote)
END:VEVENT
END:VCALENDAR
