BEGIN:VCALENDAR
X-WR-TIMEZONE;VALUE=TEXT:Europe/London
VERSION:2.0
CALSCALE:GREGORIAN
BEGIN:VEVENT
UID:6e3e5bc8-42a9-499e-b8a5-3b852720c8ec@techdiary
DTSTAMP:20190226T135920                                     
URL:https://www.techdiary.co.uk/event/6e3e5bc8-42a9-499e-b8a5-3b852720c8ec
DTSTART:20190306T100000
DTEND:20190306T160000

SUMMARY:Incubator Taster Sessions
DESCRIPTION:Also 13th\, 20th March. To help life-science startups commercialise\, including &#039;Introduction to Lean Start-up&#039;\, &#039;Business Model Innovation&#039;\, and &#039;Telling the Story&#039;. (Price: FREE)
LOCATION:The Biosphere\, Newcastle Helix\, The Core\, The Core Newcastle upon Tyne
END:VEVENT
END:VCALENDAR
