BEGIN:VCALENDAR
X-WR-TIMEZONE;VALUE=TEXT:Europe/London
VERSION:2.0
CALSCALE:GREGORIAN
BEGIN:VEVENT
UID:6c3dd09e-47a7-48a4-bf27-8f588c4a045d@techdiary
DTSTAMP:20160529T122110                                     
URL:https://www.techdiary.co.uk/event/6c3dd09e-47a7-48a4-bf27-8f588c4a045d
DTSTART:20160524T193000
DTEND:20160524T213000

SUMMARY:Dark Star
DESCRIPTION:Two talks\, &quot;Why are Galaxies Giant Magnets?&quot; (Andrew Fletcher) and &quot;Neutron Stars: Soup\, Pasta and Jelly&quot; (Toby Wood) (Price: £4)
LOCATION:The Town Wall\, Pink Lane\, Newcastle upon Tyne\, NE1 5HX
END:VEVENT
END:VCALENDAR
