BEGIN:VCALENDAR
X-WR-TIMEZONE;VALUE=TEXT:Europe/London
VERSION:2.0
CALSCALE:GREGORIAN
BEGIN:VEVENT
UID:66ff0c64-0a67-43b6-b94d-88263729ce56@techdiary
DTSTAMP:20210615T184516                                     
URL:https://www.techdiary.co.uk/event/66ff0c64-0a67-43b6-b94d-88263729ce56
DTSTART:20210907T150000
DTEND:20210907T180000

SUMMARY:#CyberFest 21 - Cyber Security in a Rapidly Changing World
DESCRIPTION:Another year of high profile cyber attacks but what really happened and how the human element can be your biggest issue? (Price: FREE)
LOCATION:Online (remote)
END:VEVENT
END:VCALENDAR
