BEGIN:VCALENDAR
X-WR-TIMEZONE;VALUE=TEXT:Europe/London
VERSION:2.0
CALSCALE:GREGORIAN
BEGIN:VEVENT
UID:6513a6ac-bc79-4da3-aa9a-2b467be4adb4@techdiary
DTSTAMP:20210810T133159                                     
URL:https://www.techdiary.co.uk/event/6513a6ac-bc79-4da3-aa9a-2b467be4adb4
DTSTART:20210909T180000
DTEND:20210909T203500

SUMMARY:First national (ISC)2 chapter collaboration meeting
DESCRIPTION:Open to both (ISC)2 and non-(ISC)2 members but places are limited by chapter (Price: FREE)
LOCATION:Online (remote)
END:VEVENT
END:VCALENDAR
