BEGIN:VCALENDAR
X-WR-TIMEZONE;VALUE=TEXT:Europe/London
VERSION:2.0
CALSCALE:GREGORIAN
BEGIN:VEVENT
UID:646685ba-3ccb-4d47-a17d-1e6f35e03614@techdiary
DTSTAMP:20191001T133554                                     
URL:https://www.techdiary.co.uk/event/646685ba-3ccb-4d47-a17d-1e6f35e03614
DTSTART:20191018T090000
DTEND:20191018T120000

SUMMARY:Designing for the Consumer
DESCRIPTION:Exploring how to design products that will appeal. Speakers include Liam Donnelly\, Josh Martland\, James Standaloft\, and Pete Daykin. (Price: FREE)
LOCATION:Proto\, Abbott&#039;s Hill\, Baltic Business Quarter\, Gateshead\, NE8 3DF
END:VEVENT
END:VCALENDAR
