BEGIN:VCALENDAR
X-WR-TIMEZONE;VALUE=TEXT:Europe/London
VERSION:2.0
CALSCALE:GREGORIAN
BEGIN:VEVENT
UID:6452a59c-7ee9-4f4c-b307-ee29f13e2130@techdiary
DTSTAMP:20210706T082209                                     
URL:https://www.techdiary.co.uk/event/6452a59c-7ee9-4f4c-b307-ee29f13e2130
DTSTART:20210929T150000
DTEND:20210929T163000

SUMMARY:#CyberFest 21 - Cyber Security for Children and Young People
DESCRIPTION:With increasing numbers of children online there are some basic security issues that they\, their parents or guardians should all be aware of. (Price: FREE)
LOCATION:Online (remote)
END:VEVENT
END:VCALENDAR
