BEGIN:VCALENDAR
X-WR-TIMEZONE;VALUE=TEXT:Europe/London
VERSION:2.0
CALSCALE:GREGORIAN
BEGIN:VEVENT
UID:62c7f0d3-22cd-4a19-b4a0-57efdb4f044c@techdiary
DTSTAMP:20160518T140247                                     
URL:https://www.techdiary.co.uk/event/62c7f0d3-22cd-4a19-b4a0-57efdb4f044c
DTSTART:20160128T183000
DTEND:20160128T203000

SUMMARY:DevOps North East: Getting Started and Measuring Success
DESCRIPTION:This session will focus on the DevOps foundations that can get you started\, the kind of results you can expect\, and some experiences of those that have been on the ride! (Price: FREE)
LOCATION:Bede Gaming\, Bevan House\, 1 Esh Plaza\, Sir Bobby Robson Way\, Newcastle Upon Tyne. NE13 9BA
END:VEVENT
END:VCALENDAR
