BEGIN:VCALENDAR
X-WR-TIMEZONE;VALUE=TEXT:Europe/London
VERSION:2.0
CALSCALE:GREGORIAN
BEGIN:VEVENT
UID:5d940a41-e3e6-4c0c-87fa-66198622cc08@techdiary
DTSTAMP:20230218T000322                                     
URL:https://www.techdiary.co.uk/event/5d940a41-e3e6-4c0c-87fa-66198622cc08
DTSTART:20230315T180000
DTEND:20230315T200000

SUMMARY:Automating DevOps - What&#039;s Next?
DESCRIPTION:With Tech On The Tyne. &quot;DevOps automation with GitOps with Gitlab-CI&quot; (Priyanka Baranwal) and &quot;Creating a self-service cloud infrastructure&quot; (Osanda Gunasena) (Price: FREE)
LOCATION:The Catalyst\, Science Square\, Newcastle upon Tyne\, NE4 5TG
END:VEVENT
END:VCALENDAR
