BEGIN:VCALENDAR
X-WR-TIMEZONE;VALUE=TEXT:Europe/London
VERSION:2.0
CALSCALE:GREGORIAN
BEGIN:VEVENT
UID:5d16b27b-87d0-4315-bf34-1559025c2659@techdiary
DTSTAMP:20200326T091355                                     
URL:https://www.techdiary.co.uk/event/5d16b27b-87d0-4315-bf34-1559025c2659
DTSTART:20200326T160000
DTEND:20200326T170000

SUMMARY:Port of Blyth Online Primary Community Meeting
DESCRIPTION: (Price: FREE)
LOCATION:Online (remote)
END:VEVENT
END:VCALENDAR
