BEGIN:VCALENDAR
X-WR-TIMEZONE;VALUE=TEXT:Europe/London
VERSION:2.0
CALSCALE:GREGORIAN
BEGIN:VEVENT
UID:5c4659ab-99a9-4624-9fd6-9a13c912f1b9@techdiary
DTSTAMP:20160212T155847                                     
URL:https://www.techdiary.co.uk/event/5c4659ab-99a9-4624-9fd6-9a13c912f1b9
DTSTART:20130509T190000
DTEND:20130509T220000

SUMMARY:Startup Beers
DESCRIPTION:For people involved or interested in start-ups and other digital adventures. Tickets are free\, and will be released in groups between now and mid-April. Includes beer. (Price: FREE)
LOCATION:The Town Wall\, Pink Lane\, Newcastle upon Tyne\, NE1 5HX
END:VEVENT
END:VCALENDAR
