BEGIN:VCALENDAR
X-WR-TIMEZONE;VALUE=TEXT:Europe/London
VERSION:2.0
CALSCALE:GREGORIAN
BEGIN:VEVENT
UID:5bacca15-faf5-4bc0-a0da-0bf9536cc5d5@techdiary
DTSTAMP:20230316T171233                                     
URL:https://www.techdiary.co.uk/event/5bacca15-faf5-4bc0-a0da-0bf9536cc5d5
DTSTART:20230404T180000
DTEND:20230404T210000

SUMMARY:Building Internal Tools with Stacker
DESCRIPTION:Oli Littlejohn will talk about his journey into no-code\, how a process evolves in an organisation\, and what Stacker is. (Price: FREE)
LOCATION:Online (remote)
END:VEVENT
END:VCALENDAR
