BEGIN:VCALENDAR
X-WR-TIMEZONE;VALUE=TEXT:Europe/London
VERSION:2.0
CALSCALE:GREGORIAN
BEGIN:VEVENT
UID:5a54cecc-09ae-470e-9066-b96e832f5049@techdiary
DTSTAMP:20210302T201527                                     
URL:https://www.techdiary.co.uk/event/5a54cecc-09ae-470e-9066-b96e832f5049
DTSTART:20210414T100000
DTEND:20210414T100000

SUMMARY:Embrace it\, Dignify it\, Inspire it!
DESCRIPTION:Present the findings of the #HERO campaign\, raising awareness about the lack of diversity in the tech sector across the North East\, and highlighting HEROES who are promoting equality\, diversity and inclusion. (Price: FREE)
LOCATION:Online (remote)
END:VEVENT
END:VCALENDAR
