BEGIN:VCALENDAR
X-WR-TIMEZONE;VALUE=TEXT:Europe/London
VERSION:2.0
CALSCALE:GREGORIAN
BEGIN:VEVENT
UID:5a054278-803f-4812-9715-d58abafd58a9@techdiary
DTSTAMP:20170509T151000                                     
URL:https://www.techdiary.co.uk/event/5a054278-803f-4812-9715-d58abafd58a9
DTSTART:20170525T183000
DTEND:20170525T183000

SUMMARY:Cloud &amp; DevOps
DESCRIPTION:A &quot;back-to-basics&quot; session\, starting with an intro to &quot;The Cloud&quot;\, what it means for DevOps\, and AWS basics\, then scaling. (Price: FREE)
LOCATION:Campus North\, Sunco House\, 5 Carliol Square\, Newcastle Upon Tyne\, NE1 6UF
END:VEVENT
END:VCALENDAR
