BEGIN:VCALENDAR
X-WR-TIMEZONE;VALUE=TEXT:Europe/London
VERSION:2.0
CALSCALE:GREGORIAN
BEGIN:VEVENT
UID:591a191c-8074-496e-b87d-e0701038a609@techdiary
DTSTAMP:20230201T161040                                     
URL:https://www.techdiary.co.uk/event/591a191c-8074-496e-b87d-e0701038a609
DTSTART:20230220T000000
DTEND:20230220T000000

SUMMARY:Introduction to Bayesian Inference using RStan
DESCRIPTION:Intermediate level (Price: £1440)
LOCATION:Online (remote)
END:VEVENT
END:VCALENDAR
