BEGIN:VCALENDAR
X-WR-TIMEZONE;VALUE=TEXT:Europe/London
VERSION:2.0
CALSCALE:GREGORIAN
BEGIN:VEVENT
UID:58bda4cb-151d-4414-89a7-b1740af72711@techdiary
DTSTAMP:20210302T201723                                     
URL:https://www.techdiary.co.uk/event/58bda4cb-151d-4414-89a7-b1740af72711
DTSTART:20210617T090000
DTEND:20210617T163000

SUMMARY:21 (Tech Leads the way in a Challenging World)
DESCRIPTION: (Price: FREE)
LOCATION:Online (remote)
END:VEVENT
END:VCALENDAR
