BEGIN:VCALENDAR
X-WR-TIMEZONE;VALUE=TEXT:Europe/London
VERSION:2.0
CALSCALE:GREGORIAN
BEGIN:VEVENT
UID:561760a8-16c9-402e-a881-c6528693256c@techdiary
DTSTAMP:20160212T155841                                     
URL:https://www.techdiary.co.uk/event/561760a8-16c9-402e-a881-c6528693256c
DTSTART:20130620T190000
DTEND:20130620T220000

SUMMARY:Startup Beers
DESCRIPTION:For people involved or interested in start-ups and other digital adventures. Tickets are free\, and will be released in groups between now and mid-April. Includes beer. (Price: FREE)
LOCATION:Cinema Room\, The Town Wall\, Pink Lane\, Newcastle upon Tyne\, NE1 5HX
END:VEVENT
END:VCALENDAR
