BEGIN:VCALENDAR
X-WR-TIMEZONE;VALUE=TEXT:Europe/London
VERSION:2.0
CALSCALE:GREGORIAN
BEGIN:VEVENT
UID:54f68bef-3b50-4c13-8bb4-7e53e038c928@techdiary
DTSTAMP:20190103T133305                                     
URL:https://www.techdiary.co.uk/event/54f68bef-3b50-4c13-8bb4-7e53e038c928
DTSTART:20190117T183000
DTEND:20190117T183000

SUMMARY:Bionix
DESCRIPTION:Andy Kane will talk about DXC:Bionix - a new digital services delivery model that looks to provide a comprehensive approach to &quot;automation-at-scale&quot;. (Price: FREE)
LOCATION:DXC Technology\, Silver Fox Way\, Newcastle
END:VEVENT
END:VCALENDAR
