BEGIN:VCALENDAR
X-WR-TIMEZONE;VALUE=TEXT:Europe/London
VERSION:2.0
CALSCALE:GREGORIAN
BEGIN:VEVENT
UID:511d12b0-0e02-4b21-b6da-f53b018ffa2f@techdiary
DTSTAMP:20210217T162318                                     
URL:https://www.techdiary.co.uk/event/511d12b0-0e02-4b21-b6da-f53b018ffa2f
DTSTART:20210225T160000
DTEND:20210225T170000

SUMMARY:Member Networking
DESCRIPTION:Presentation by Ed Bartlett\, and Networking (Price: FREE)
LOCATION:Online (remote)
END:VEVENT
END:VCALENDAR
