BEGIN:VCALENDAR
X-WR-TIMEZONE;VALUE=TEXT:Europe/London
VERSION:2.0
CALSCALE:GREGORIAN
BEGIN:VEVENT
UID:506cbb90-a887-4ced-9012-d8c8bbe27abf@techdiary
DTSTAMP:20211027T140622                                     
URL:https://www.techdiary.co.uk/event/506cbb90-a887-4ced-9012-d8c8bbe27abf
DTSTART:20211116T103000
DTEND:20211116T103000

SUMMARY:The Climate Emergency and Net Zero Carbon
DESCRIPTION:Discussions of climate science\, carbon footprint\, and strategies for decarbonisation\, with Anna-Lisa Mills and Jo Holmes (Price: FREE)
LOCATION:Online (remote)
END:VEVENT
END:VCALENDAR
