BEGIN:VCALENDAR
X-WR-TIMEZONE;VALUE=TEXT:Europe/London
VERSION:2.0
CALSCALE:GREGORIAN
BEGIN:VEVENT
UID:5066431d-03b1-42d5-a519-25f7213cbca4@techdiary
DTSTAMP:20231019T121425                                     
URL:https://www.techdiary.co.uk/event/5066431d-03b1-42d5-a519-25f7213cbca4
DTSTART:20231108T093000
DTEND:20231108T113000

SUMMARY:Dynamo Tech Sector Networking
DESCRIPTION:Come along\, build relationships\, and promote the North East tech sector! (Price: FREE)
LOCATION:Proto  Abbotts Hill Baltic Quater Gateshead NE8 3DF
END:VEVENT
END:VCALENDAR
