BEGIN:VCALENDAR
X-WR-TIMEZONE;VALUE=TEXT:Europe/London
VERSION:2.0
CALSCALE:GREGORIAN
BEGIN:VEVENT
UID:4f9c37de-29bc-42f3-abf0-0f4929775a3e@techdiary
DTSTAMP:20200511T122810                                     
URL:https://www.techdiary.co.uk/event/4f9c37de-29bc-42f3-abf0-0f4929775a3e
DTSTART:20200529T150000
DTEND:20200529T163000

SUMMARY:Immersive for Brands Spotlight
DESCRIPTION:How can you build your brand and engage more audiences using immersive technologies? (Price: FREE)
LOCATION:Online (remote)
END:VEVENT
END:VCALENDAR
