BEGIN:VCALENDAR
X-WR-TIMEZONE;VALUE=TEXT:Europe/London
VERSION:2.0
CALSCALE:GREGORIAN
BEGIN:VEVENT
UID:4ca591b2-8cf7-4cfa-8eba-ea8bec2ea9e8@techdiary
DTSTAMP:20200703T170227                                     
URL:https://www.techdiary.co.uk/event/4ca591b2-8cf7-4cfa-8eba-ea8bec2ea9e8
DTSTART:20200925T090000
DTEND:20200925T160000

SUMMARY:Back 2 Sk00l
DESCRIPTION:Covering: tutorials for new technologies\, revisiting and challenging preconceptions\, upcoming concepts - AI\, Machine Learning\, Virtual Reality\, &quot;Back to basics&quot; - security\, modern/agile testing principles\, etc\, improving essential people skills\, principles - How we engineer great software. (Price: FREE)
LOCATION:Online (remote)
END:VEVENT
END:VCALENDAR
