BEGIN:VCALENDAR
X-WR-TIMEZONE;VALUE=TEXT:Europe/London
VERSION:2.0
CALSCALE:GREGORIAN
BEGIN:VEVENT
UID:4c4167e0-c8bb-4b67-8fb3-cbaf2662b5d0@techdiary
DTSTAMP:20190705T151728                                     
URL:https://www.techdiary.co.uk/event/4c4167e0-c8bb-4b67-8fb3-cbaf2662b5d0
DTSTART:20190912T100000
DTEND:20190912T160000

SUMMARY:Northern Exposure
DESCRIPTION:A B2B games conference. (Price: £38.32 - 76.05)
LOCATION:Discovery Museum Newcastle\, Blandford Square\, Newcastle upon Tyne\, NE1 4JA
END:VEVENT
END:VCALENDAR
