BEGIN:VCALENDAR
X-WR-TIMEZONE;VALUE=TEXT:Europe/London
VERSION:2.0
CALSCALE:GREGORIAN
BEGIN:VEVENT
UID:4b0008af-15c8-4b7e-8898-d9bd0894f441@techdiary
DTSTAMP:20190307T131727                                     
URL:https://www.techdiary.co.uk/event/4b0008af-15c8-4b7e-8898-d9bd0894f441
DTSTART:20190411T093000
DTEND:20190412T140000

SUMMARY:A blueprint for urban analytics research
DESCRIPTION:A workshop to explore urban analytics research agenda with the aim of pushing the boundaries of (urban) sciences for the public good. (Price: FREE)
LOCATION:Urban Sciences Building\, Newcastle Helix\, The Core\, The Core Newcastle upon Tyne
END:VEVENT
END:VCALENDAR
