BEGIN:VCALENDAR
X-WR-TIMEZONE;VALUE=TEXT:Europe/London
VERSION:2.0
CALSCALE:GREGORIAN
BEGIN:VEVENT
UID:476c8288-4547-4bd4-aa52-4ef513f43097@techdiary
DTSTAMP:20181220T161350                                     
URL:https://www.techdiary.co.uk/event/476c8288-4547-4bd4-aa52-4ef513f43097
DTSTART:20190110T130000
DTEND:20190110T170000

SUMMARY:Workshop 2
DESCRIPTION:Focussed on idea generation\, coming up with solutions to challenges associated with ageing. Attendees will work through what solutions are possible and how these could be commercialised. (Price: FREE)
LOCATION:Great Hall\, Discovery Museum Newcastle\, Blandford Square\, Newcastle upon Tyne\, NE1 4JA
END:VEVENT
END:VCALENDAR
