BEGIN:VCALENDAR
X-WR-TIMEZONE;VALUE=TEXT:Europe/London
VERSION:2.0
CALSCALE:GREGORIAN
BEGIN:VEVENT
UID:4683014b-e18a-41eb-be46-6540096bb69d@techdiary
DTSTAMP:20210819T145601                                     
URL:https://www.techdiary.co.uk/event/4683014b-e18a-41eb-be46-6540096bb69d
DTSTART:20210930T130000
DTEND:20210930T140000

SUMMARY:WiS: Mind the Gap- The Power of Mentorship &amp; Networks
DESCRIPTION:Join us to hear how mentorship and networking can be a vital element of your career development and a powerful ally. (Price: FREE)
LOCATION:Online (remote)
END:VEVENT
END:VCALENDAR
