BEGIN:VCALENDAR
X-WR-TIMEZONE;VALUE=TEXT:Europe/London
VERSION:2.0
CALSCALE:GREGORIAN
BEGIN:VEVENT
UID:46536c5b-8125-4dc5-b110-7e630440056d@techdiary
DTSTAMP:20160529T010509                                     
URL:https://www.techdiary.co.uk/event/46536c5b-8125-4dc5-b110-7e630440056d
DTSTART:20160428T173000
DTEND:20160428T173000

SUMMARY:DevOps North East: Dashboards and Team work
DESCRIPTION:Rob Taylor\, &quot;Visualising your Service - Beyond the black box&quot; and Rhyd Lewis\, &quot;Whipping your WIP&quot;. (Price: FREE)
LOCATION:The Core\, Science Central\, Bath Lane\, Newcastle upon Tyne\, NE4 5TF
END:VEVENT
END:VCALENDAR
