BEGIN:VCALENDAR
X-WR-TIMEZONE;VALUE=TEXT:Europe/London
VERSION:2.0
CALSCALE:GREGORIAN
BEGIN:VEVENT
UID:45cc4100-3bd6-4a7b-b631-84f21a9c5b44@techdiary
DTSTAMP:20160516T001513                                     
URL:https://www.techdiary.co.uk/event/45cc4100-3bd6-4a7b-b631-84f21a9c5b44
DTSTART:20160428T183000
DTEND:20160428T183000

SUMMARY:aNEmeet
DESCRIPTION:A group to try to bring together a community of animators and illustrators in the North East for informal gatherings. (Price: FREE)
LOCATION:The Drawing Room\, The Town Wall\, Pink Lane\, Newcastle upon Tyne\, NE1 5HX
END:VEVENT
END:VCALENDAR
