BEGIN:VCALENDAR
X-WR-TIMEZONE;VALUE=TEXT:Europe/London
VERSION:2.0
CALSCALE:GREGORIAN
BEGIN:VEVENT
UID:44174688-885f-48e3-b47b-a72f7b452478@techdiary
DTSTAMP:20210514T151842                                     
URL:https://www.techdiary.co.uk/event/44174688-885f-48e3-b47b-a72f7b452478
DTSTART:20210520T123000
DTEND:20210520T123000

SUMMARY:Selling Cyber Security Services to the Public Sector
DESCRIPTION:Selling to the public sector can seem to be difficult. Hear from organisations whose role it is to help you through the process. (Price: FREE)
LOCATION:Online (remote)
END:VEVENT
END:VCALENDAR
