BEGIN:VCALENDAR
X-WR-TIMEZONE;VALUE=TEXT:Europe/London
VERSION:2.0
CALSCALE:GREGORIAN
BEGIN:VEVENT
UID:40b8d594-0e31-43e5-b3b8-8a7a6c54588e@techdiary
DTSTAMP:20200303T123834                                     
URL:https://www.techdiary.co.uk/event/40b8d594-0e31-43e5-b3b8-8a7a6c54588e
DTSTART:20200319T170000
DTEND:20200319T193000

SUMMARY:Digital Ethics in the Workplace
DESCRIPTION: (Price: FREE)
LOCATION:Newcastle University Business School\, 5 Barrack Rd\, Newcastle upon Tyne\, NE1 4SE
END:VEVENT
END:VCALENDAR
