BEGIN:VCALENDAR
X-WR-TIMEZONE;VALUE=TEXT:Europe/London
VERSION:2.0
CALSCALE:GREGORIAN
BEGIN:VEVENT
UID:40855b2a-02db-422f-8b56-63b18770e49f@techdiary
DTSTAMP:20180910T115652                                     
URL:https://www.techdiary.co.uk/event/40855b2a-02db-422f-8b56-63b18770e49f
DTSTART:20180920T183000
DTEND:20180920T183000

SUMMARY:PowerShell (and Git)
DESCRIPTION:Craig Porteous and Paul Broadwith talk on &quot;The PowerShell Standards Agency – Write better code for Everybody&quot; and &quot;Git Fundamentals&quot;. (Price: FREE)
LOCATION:Campus North\, Sunco House\, 5 Carliol Square\, Newcastle Upon Tyne\, NE1 6UF
END:VEVENT
END:VCALENDAR
