BEGIN:VCALENDAR
X-WR-TIMEZONE;VALUE=TEXT:Europe/London
VERSION:2.0
CALSCALE:GREGORIAN
BEGIN:VEVENT
UID:406e6048-6a5e-4ebb-9cc6-ab092a2f53b6@techdiary
DTSTAMP:20230612T145652                                     
URL:https://www.techdiary.co.uk/event/406e6048-6a5e-4ebb-9cc6-ab092a2f53b6
DTSTART:20231116T180000
DTEND:20231116T223000

SUMMARY:Dynamites
DESCRIPTION:Tenth anniversary of the North East IT and Tech awards. (Price: £120 - 145)
LOCATION:Newcastle Civic Centre
END:VEVENT
END:VCALENDAR
