BEGIN:VCALENDAR
X-WR-TIMEZONE;VALUE=TEXT:Europe/London
VERSION:2.0
CALSCALE:GREGORIAN
BEGIN:VEVENT
UID:3e814dda-693a-414f-9cb8-34e66fd0d927@techdiary
DTSTAMP:20160919T105447                                     
URL:https://www.techdiary.co.uk/event/3e814dda-693a-414f-9cb8-34e66fd0d927
DTSTART:20161020T183000
DTEND:20161020T183000

SUMMARY:Docker from baby steps to live deployments
DESCRIPTION:Container basics and how Docker has gone from being nowhere to a key technology in the space of 3 years. (Price: FREE)
LOCATION:Classroom\, Campus North\, Sunco House\, 5 Carliol Square\, Newcastle Upon Tyne\, NE1 6UF
END:VEVENT
END:VCALENDAR
