BEGIN:VCALENDAR
X-WR-TIMEZONE;VALUE=TEXT:Europe/London
VERSION:2.0
CALSCALE:GREGORIAN
BEGIN:VEVENT
UID:3d21e206-8299-4c08-98dc-4800618966ea@techdiary
DTSTAMP:20200429T134749                                     
URL:https://www.techdiary.co.uk/event/3d21e206-8299-4c08-98dc-4800618966ea
DTSTART:20200430T190000
DTEND:20200430T210000

SUMMARY:Kubernetes 101
DESCRIPTION:With Chris Wraith. (Price: FREE)
LOCATION:Online (remote)
END:VEVENT
END:VCALENDAR
