BEGIN:VCALENDAR
X-WR-TIMEZONE;VALUE=TEXT:Europe/London
VERSION:2.0
CALSCALE:GREGORIAN
BEGIN:VEVENT
UID:3b61bf01-fce1-41b8-8ed6-3ca7c0ba946a@techdiary
DTSTAMP:20190408T105142                                     
URL:https://www.techdiary.co.uk/event/3b61bf01-fce1-41b8-8ed6-3ca7c0ba946a
DTSTART:20190513T173000
DTEND:20190513T193000

SUMMARY:Public Service Transformation in the Digital Age – Successes\, Opportunities and Challenges
DESCRIPTION:In partnership with Newcastle City Council. With Dominic Campbell\, Jenny Nelson\, and Fay Cooper (chaired by Andrew Besford) (Price: FREE / £24)
LOCATION:Newcastle Helix\, The Core\, The Core Newcastle upon Tyne
END:VEVENT
END:VCALENDAR
