BEGIN:VCALENDAR
X-WR-TIMEZONE;VALUE=TEXT:Europe/London
VERSION:2.0
CALSCALE:GREGORIAN
BEGIN:VEVENT
UID:39cc6f32-02c4-4a23-af8d-acc29ccbe23e@techdiary
DTSTAMP:20160531T040105                                     
URL:https://www.techdiary.co.uk/event/39cc6f32-02c4-4a23-af8d-acc29ccbe23e
DTSTART:20160302T083000
DTEND:20160302T083000

SUMMARY:Dynamo: Cyber Essentials Workshop
DESCRIPTION:How Cyber Security affects your organisation\, practical guidance towards implementation of the 5 controls of the Cyber Essentials Scheme\, and how to apply for Cyber Essentials certification. (Price: FREE)
LOCATION:The David Goldman Informatics Centre\, University of Sunderland. SR6 0DD
END:VEVENT
END:VCALENDAR
