BEGIN:VCALENDAR
X-WR-TIMEZONE;VALUE=TEXT:Europe/London
VERSION:2.0
CALSCALE:GREGORIAN
BEGIN:VEVENT
UID:39c281be-20c4-462d-bf2b-76b546ef9e0d@techdiary
DTSTAMP:20220209T172522                                     
URL:https://www.techdiary.co.uk/event/39c281be-20c4-462d-bf2b-76b546ef9e0d
DTSTART:20220216T180000
DTEND:20220216T200000

SUMMARY:Collide (Find your Co-Founder)
DESCRIPTION:A matchmaking event to connect founders with tech-savvy individuals to collaborate and start great businesses together. (Price: FREE)
LOCATION:Online (remote)
END:VEVENT
END:VCALENDAR
