BEGIN:VCALENDAR
X-WR-TIMEZONE;VALUE=TEXT:Europe/London
VERSION:2.0
CALSCALE:GREGORIAN
BEGIN:VEVENT
UID:395860f8-375a-4e59-a40e-1664ce0d716b@techdiary
DTSTAMP:20160113T231222                                     
URL:https://www.techdiary.co.uk/event/395860f8-375a-4e59-a40e-1664ce0d716b
DTSTART:20150122T173000
DTEND:20150122T193000

SUMMARY:DynamoNet: Get Inspired at Aspire
DESCRIPTION:Find out about the latest Dynamo activity\, hear what Aspire are up to and have a look around their offices. Networking and 60-second lightning talks. (Price: FREE)
LOCATION:Aspire\, Heworth Hall\, Shields Road. NE10 0UX. Gateshead
END:VEVENT
END:VCALENDAR
