BEGIN:VCALENDAR
X-WR-TIMEZONE;VALUE=TEXT:Europe/London
VERSION:2.0
CALSCALE:GREGORIAN
BEGIN:VEVENT
UID:38ca9151-bad4-4fd0-aa25-f058ff71aeba@techdiary
DTSTAMP:20160601T191245                                     
URL:https://www.techdiary.co.uk/event/38ca9151-bad4-4fd0-aa25-f058ff71aeba
DTSTART:20160622T183000
DTEND:20160622T183000

SUMMARY:DevOps North East: &quot;Who wants to be a (DevOps) millionaire&quot; and more from Microsoft
DESCRIPTION:A light-hearted game of &quot;Who wants to be a (DevOps) millionaire&quot; which has questions on the technical and business aspects of DevOps\, then Martyn Coupland will then talk about Microsoft and DevOps/Open Source. (Price: FREE)
LOCATION:Campus North\, Sunco House\, 5 Carliol Square\, Newcastle Upon Tyne\, NE1 6UF
END:VEVENT
END:VCALENDAR
