BEGIN:VCALENDAR
X-WR-TIMEZONE;VALUE=TEXT:Europe/London
VERSION:2.0
CALSCALE:GREGORIAN
BEGIN:VEVENT
UID:3882e7a6-9c5b-4615-8b02-39253806bbbe@techdiary
DTSTAMP:20161107T134814                                     
URL:https://www.techdiary.co.uk/event/3882e7a6-9c5b-4615-8b02-39253806bbbe
DTSTART:20161114T173000
DTEND:20161114T193000

SUMMARY:DynamoNet November
DESCRIPTION:Themed around BIM and promoting digital construction in the North East\, with a virtual reality and augmented reality showcase. (Price: FREE / £24)
LOCATION:Space Works\, Benton Park Road\, Newcastle upon Tyne\, NE7 7LX
END:VEVENT
END:VCALENDAR
