BEGIN:VCALENDAR
X-WR-TIMEZONE;VALUE=TEXT:Europe/London
VERSION:2.0
CALSCALE:GREGORIAN
BEGIN:VEVENT
UID:37505673-4326-4a45-8ccd-8e8d80f3d960@techdiary
DTSTAMP:20160415T101252                                     
URL:https://www.techdiary.co.uk/event/37505673-4326-4a45-8ccd-8e8d80f3d960
DTSTART:20160114T173000
DTEND:20160114T193000

SUMMARY:The Hair Of The Dog
DESCRIPTION:Chat\, music and booze for Digital Union members and friends. (Price: FREE)
LOCATION:The Town Wall\, Pink Lane\, Newcastle upon Tyne\, NE1 5HX
END:VEVENT
END:VCALENDAR
