BEGIN:VCALENDAR
X-WR-TIMEZONE;VALUE=TEXT:Europe/London
VERSION:2.0
CALSCALE:GREGORIAN
BEGIN:VEVENT
UID:2ef376cf-b871-44f1-ac0e-8cb0dfe97b6c@techdiary
DTSTAMP:20191212T123249                                     
URL:https://www.techdiary.co.uk/event/2ef376cf-b871-44f1-ac0e-8cb0dfe97b6c
DTSTART:20191219T183000
DTEND:20191219T203000

SUMMARY:Christmas Party
DESCRIPTION:A discussion of membership survey and direction from James Watson and &quot;GitOps - Demystifying Git For Ops Folk&quot; (Brett Miller) (Price: FREE)
LOCATION:Sage UK\, North Park\, Newcastle Upon Tyne
END:VEVENT
END:VCALENDAR
